BEGIN:VCALENDAR
VERSION:2.0
PRODID:-//University of Wisconsin-La Crosse//Events Feed//EN
CALSCALE:GREGORIAN
METHOD:PUBLISH
X-WR-CALNAME:Volunteer Archaeology Field Survey Opportunity 
BEGIN:VTIMEZONE
TZID:America/Chicago
BEGIN:DAYLIGHT
DTSTART:20160313T030000
TZOFFSETFROM:-0600
TZOFFSETTO:-0500
RRULE:FREQ=YEARLY;BYDAY=2SU;BYMONTH=3
TZNAME:CDT
END:DAYLIGHT
BEGIN:STANDARD
DTSTART:20161106T010000
TZOFFSETFROM:-0500
TZOFFSETTO:-0600
RRULE:FREQ=YEARLY;BYDAY=1SU;BYMONTH=11
TZNAME:CST
END:STANDARD
END:VTIMEZONE
BEGIN:VEVENT
SUMMARY:Volunteer Archaeology Field Survey Opportunity 
STATUS:CONFIRMEDDTSTAMP;TZID=America/Chicago:20260423T084916
DTSTART;TZID=America/Chicago:20170506T083000
DTEND;TZID=America/Chicago:20170506T160000
UID:13202@calendar.uwlax.edu
LOCATION:Main Floor, Archaeology Center & Laboratories
X-ALT-DESC;FMTTYPE=text/html:<a href='https://www.uwlax.edu/calendar/?e=13202'>https://www.uwlax.edu/calendar/?e=13202</a>
DESCRIPTION:https://www.uwlax.edu/calendar/?e=13202
URL:https://www.uwlax.edu/calendar/?e=13202
END:VEVENT
END:VCALENDAR